BEGIN:VCALENDAR
VERSION:2.0
PRODID:-//81.88.36.52//NONSGML kigkonsult.se iCalcreator 2.20//
CALSCALE:GREGORIAN
METHOD:PUBLISH
X-WR-TIMEZONE:Europe/Vienna
BEGIN:VEVENT
UID:event1099@Online-Magazin SCHNAPPEN.AT: die interessanten Seiten des Leb
 ens
DTSTAMP:20260425T121829Z
CATEGORIES:Veranstaltungen
DESCRIPTION:Ina Müller & Band in Österreich und Deutschland\nKategorie: Ver
 anstaltungen\nICS-Link: https://schnappen.at/oesterreich/index.php?option=
 com_jem&view=event&id=1099:ina-mueller\n
DTSTART;VALUE=DATE:20270206
DTEND;VALUE=DATE:20270207
SUMMARY:Ina Müller & Band in Österreich und Deutschland
URL:https://schnappen.at/oesterreich/index.php?option=com_jem&view=event&id
 =1099:ina-mueller
END:VEVENT
END:VCALENDAR