BEGIN:VCALENDAR
VERSION:2.0
PRODID:-//81.88.36.52//NONSGML kigkonsult.se iCalcreator 2.20//
CALSCALE:GREGORIAN
METHOD:PUBLISH
X-WR-TIMEZONE:Europe/Vienna
BEGIN:VEVENT
UID:event1097@Online-Magazin SCHNAPPEN.AT: die interessanten Seiten des Leb
 ens
DTSTAMP:20260425T121917Z
CATEGORIES:Veranstaltungen
DESCRIPTION:Enrique Iglesias in Polen\nKategorie: Veranstaltungen\nICS-Link
 : https://schnappen.at/oesterreich/index.php?option=com_jem&view=event&id=
 1097:iglesias\n
DTSTART;TZID=Europe/Vienna:20260509T200000
DTEND;TZID=Europe/Vienna:20260509T200000
SUMMARY:Enrique Iglesias in Polen
URL:https://schnappen.at/oesterreich/index.php?option=com_jem&view=event&id
 =1097:iglesias
END:VEVENT
END:VCALENDAR