BEGIN:VCALENDAR
VERSION:2.0
PRODID:-//81.88.36.52//NONSGML kigkonsult.se iCalcreator 2.20//
CALSCALE:GREGORIAN
METHOD:PUBLISH
X-WR-TIMEZONE:Europe/Vienna
BEGIN:VEVENT
UID:event1095@Online-Magazin SCHNAPPEN.AT: die interessanten Seiten des Leb
 ens
DTSTAMP:20260425T122109Z
CATEGORIES:Termine noch offen
DESCRIPTION:Piaristenball im Palais Niederösterreich\nKategorie: Termine no
 ch offen\nICS-Link: https://schnappen.at/oesterreich/index.php?option=com_
 jem&view=event&id=1095:piaristenball\n
DTSTART;VALUE=DATE:20270123
DTEND;VALUE=DATE:20270124
LOCATION:Palais Niederösterreich\,Herrengasse 13\,1010 Wien
SUMMARY:Piaristenball im Palais Niederösterreich
URL:https://schnappen.at/oesterreich/index.php?option=com_jem&view=event&id
 =1095:piaristenball
END:VEVENT
END:VCALENDAR