BEGIN:VCALENDAR
VERSION:2.0
PRODID:-//81.88.36.52//NONSGML kigkonsult.se iCalcreator 2.20//
CALSCALE:GREGORIAN
METHOD:PUBLISH
X-WR-TIMEZONE:Europe/Vienna
BEGIN:VEVENT
UID:event1094@Online-Magazin SCHNAPPEN.AT: die interessanten Seiten des Leb
 ens
DTSTAMP:20260425T122120Z
CATEGORIES:Veranstaltungen
DESCRIPTION:Andreas Vitasek\, Kabarettist\nKategorie: Veranstaltungen\nICS-
 Link: https://schnappen.at/oesterreich/index.php?option=com_jem&view=event
 &id=1094:vitasek-kabarettist\n
DTSTART;VALUE=DATE:20260806
DTEND;VALUE=DATE:20260807
SUMMARY:Andreas Vitasek\, Kabarettist
URL:https://schnappen.at/oesterreich/index.php?option=com_jem&view=event&id
 =1094:vitasek-kabarettist
END:VEVENT
END:VCALENDAR