BEGIN:VCALENDAR
VERSION:2.0
PRODID:-//81.88.36.52//NONSGML kigkonsult.se iCalcreator 2.20//
CALSCALE:GREGORIAN
METHOD:PUBLISH
X-WR-TIMEZONE:Europe/Vienna
BEGIN:VEVENT
UID:event1089@Online-Magazin SCHNAPPEN.AT: die interessanten Seiten des Leb
 ens
DTSTAMP:20260425T121817Z
CATEGORIES:Veranstaltungen
DESCRIPTION:Milow\, der belgische Sänger in Österreich und Deutschland\nKat
 egorie: Veranstaltungen\nICS-Link: https://schnappen.at/oesterreich/index.
 php?option=com_jem&view=event&id=1089:milow\n
DTSTART;TZID=Europe/Vienna:20260717T190000
DTEND;TZID=Europe/Vienna:20260717T190000
SUMMARY:Milow\, der belgische Sänger in Österreich und Deutschland
URL:https://schnappen.at/oesterreich/index.php?option=com_jem&view=event&id
 =1089:milow
END:VEVENT
END:VCALENDAR