BEGIN:VCALENDAR
VERSION:2.0
PRODID:-//81.88.36.52//NONSGML kigkonsult.se iCalcreator 2.20//
CALSCALE:GREGORIAN
METHOD:PUBLISH
X-WR-TIMEZONE:Europe/Vienna
BEGIN:VEVENT
UID:event1081@Online-Magazin SCHNAPPEN.AT: die interessanten Seiten des Leb
 ens
DTSTAMP:20260425T121939Z
CATEGORIES:Veranstaltungen
DESCRIPTION:Trio Lepschi \nKategorie: Veranstaltungen\nICS-Link: https://sc
 hnappen.at/oesterreich/index.php?option=com_jem&view=event&id=1081:trio-le
 pschi\n
DTSTART;VALUE=DATE:20260508
DTEND;VALUE=DATE:20260509
SUMMARY:Trio Lepschi 
URL:https://schnappen.at/oesterreich/index.php?option=com_jem&view=event&id
 =1081:trio-lepschi
END:VEVENT
END:VCALENDAR