BEGIN:VCALENDAR
VERSION:2.0
PRODID:-//81.88.36.52//NONSGML kigkonsult.se iCalcreator 2.20//
CALSCALE:GREGORIAN
METHOD:PUBLISH
X-WR-TIMEZONE:Europe/Vienna
BEGIN:VEVENT
UID:event1078@Online-Magazin SCHNAPPEN.AT: die interessanten Seiten des Leb
 ens
DTSTAMP:20260425T121657Z
CATEGORIES:Veranstaltungen\, Wir berichten über...
DESCRIPTION:Schloss Tabor: Operette\, Uhudlerlandestheater\, Sterzfestival
 \nKategorie: Veranstaltungen\, Wir berichten über...\nICS-Link: https://sc
 hnappen.at/oesterreich/index.php?option=com_jem&view=event&id=1078:jopera
 \n
DTSTART;VALUE=DATE:20260806
DTEND;VALUE=DATE:20260817
LOCATION:Schloss Tabor \,Taborstraße 3\,8385 Neuhaus am Klausenbach
SUMMARY:Schloss Tabor: Operette\, Uhudlerlandestheater\, Sterzfestival
URL:https://schnappen.at/oesterreich/index.php?option=com_jem&view=event&id
 =1078:jopera
END:VEVENT
END:VCALENDAR