BEGIN:VCALENDAR
VERSION:2.0
PRODID:-//81.88.36.52//NONSGML kigkonsult.se iCalcreator 2.20//
CALSCALE:GREGORIAN
METHOD:PUBLISH
X-WR-TIMEZONE:Europe/Vienna
BEGIN:VEVENT
UID:event1065@Online-Magazin SCHNAPPEN.AT: die interessanten Seiten des Leb
 ens
DTSTAMP:20260425T122303Z
CATEGORIES:Veranstaltungen
DESCRIPTION:Grafenegg Festival\, Grafenegger Frühling & Konzerte\nKategorie
 : Veranstaltungen\nICS-Link: https://schnappen.at/oesterreich/index.php?op
 tion=com_jem&view=event&id=1065:grafenegg-festival\n
DTSTART;VALUE=DATE:20260814
DTEND;VALUE=DATE:20260907
LOCATION:Grafenegg Wolkenturm\,Grafenegg 10\,3485  Grafenegg
SUMMARY:Grafenegg Festival\, Grafenegger Frühling & Konzerte
URL:https://schnappen.at/oesterreich/index.php?option=com_jem&view=event&id
 =1065:grafenegg-festival
END:VEVENT
END:VCALENDAR