BEGIN:VCALENDAR
VERSION:2.0
PRODID:-//81.88.36.52//NONSGML kigkonsult.se iCalcreator 2.20//
CALSCALE:GREGORIAN
METHOD:PUBLISH
X-WR-TIMEZONE:Europe/Vienna
BEGIN:VEVENT
UID:event1062@Online-Magazin SCHNAPPEN.AT: die interessanten Seiten des Leb
 ens
DTSTAMP:20260425T121814Z
CATEGORIES:Veranstaltungen
DESCRIPTION:Festspiele Reichenau\, Niederösterreich\nKategorie: Veranstaltu
 ngen\nICS-Link: https://schnappen.at/oesterreich/index.php?option=com_jem&
 view=event&id=1062:reichenau\n
DTSTART;VALUE=DATE:20260701
DTEND;VALUE=DATE:20260803
LOCATION:Theater Reichenau\,Hauptstraße 28\,2651 Reichenau
SUMMARY:Festspiele Reichenau\, Niederösterreich
URL:https://schnappen.at/oesterreich/index.php?option=com_jem&view=event&id
 =1062:reichenau
END:VEVENT
END:VCALENDAR