BEGIN:VCALENDAR
VERSION:2.0
PRODID:-//81.88.36.52//NONSGML kigkonsult.se iCalcreator 2.20//
CALSCALE:GREGORIAN
METHOD:PUBLISH
X-WR-TIMEZONE:Europe/Vienna
BEGIN:VEVENT
UID:event1056@Online-Magazin SCHNAPPEN.AT: die interessanten Seiten des Leb
 ens
DTSTAMP:20260425T122144Z
CATEGORIES:Veranstaltungen
DESCRIPTION:VoXXclub \nKategorie: Veranstaltungen\nICS-Link: https://schnap
 pen.at/oesterreich/index.php?option=com_jem&view=event&id=1056:voxxclub\n
DTSTART;VALUE=DATE:20260628
DTEND;VALUE=DATE:20260629
LOCATION:Posthof Linz\,Posthofstraße 43\,4020 Linz
SUMMARY:VoXXclub 
URL:https://schnappen.at/oesterreich/index.php?option=com_jem&view=event&id
 =1056:voxxclub
END:VEVENT
END:VCALENDAR