BEGIN:VCALENDAR
VERSION:2.0
PRODID:-//81.88.36.52//NONSGML kigkonsult.se iCalcreator 2.20//
CALSCALE:GREGORIAN
METHOD:PUBLISH
X-WR-TIMEZONE:Europe/Vienna
BEGIN:VEVENT
UID:event1054@Online-Magazin SCHNAPPEN.AT: die interessanten Seiten des Leb
 ens
DTSTAMP:20260425T121916Z
CATEGORIES:Veranstaltungen
DESCRIPTION:Andrea Berg 2026 in Österreich und Deutschland\nKategorie: Vera
 nstaltungen\nICS-Link: https://schnappen.at/oesterreich/index.php?option=c
 om_jem&view=event&id=1054:andrea-berg\n
DTSTART;VALUE=DATE:20260725
DTEND;VALUE=DATE:20260726
SUMMARY:Andrea Berg 2026 in Österreich und Deutschland
URL:https://schnappen.at/oesterreich/index.php?option=com_jem&view=event&id
 =1054:andrea-berg
END:VEVENT
END:VCALENDAR