BEGIN:VCALENDAR
VERSION:2.0
PRODID:-//81.88.36.52//NONSGML kigkonsult.se iCalcreator 2.20//
CALSCALE:GREGORIAN
METHOD:PUBLISH
X-WR-TIMEZONE:Europe/Vienna
BEGIN:VEVENT
UID:event1053@Online-Magazin SCHNAPPEN.AT: die interessanten Seiten des Leb
 ens
DTSTAMP:20260425T122306Z
CATEGORIES:Veranstaltungen
DESCRIPTION:Schlagerparty - Schlagernacht \nKategorie: Veranstaltungen\nICS
 -Link: https://schnappen.at/oesterreich/index.php?option=com_jem&view=even
 t&id=1053:starnacht-neusiedlersee\n
DTSTART;VALUE=DATE:20260721
DTEND;VALUE=DATE:20260722
LOCATION:Mörbisch am Neusiedlersee\,Strand\,7072 Mörbisch
SUMMARY:Schlagerparty - Schlagernacht 
URL:https://schnappen.at/oesterreich/index.php?option=com_jem&view=event&id
 =1053:starnacht-neusiedlersee
END:VEVENT
END:VCALENDAR