BEGIN:VCALENDAR
VERSION:2.0
PRODID:-//81.88.36.52//NONSGML kigkonsult.se iCalcreator 2.20//
CALSCALE:GREGORIAN
METHOD:PUBLISH
X-WR-TIMEZONE:Europe/Vienna
BEGIN:VEVENT
UID:event1034@Online-Magazin SCHNAPPEN.AT: die interessanten Seiten des Leb
 ens
DTSTAMP:20260425T122113Z
CATEGORIES:Wir berichten über...\, Veranstaltungen
DESCRIPTION:Golser Volksfest\nKategorie: Wir berichten über...\, Veranstalt
 ungen\nICS-Link: https://schnappen.at/oesterreich/index.php?option=com_jem
 &view=event&id=1034:golser-volksfest\n
DTSTART;VALUE=DATE:20260807
DTEND;VALUE=DATE:20260817
SUMMARY:Golser Volksfest
URL:https://schnappen.at/oesterreich/index.php?option=com_jem&view=event&id
 =1034:golser-volksfest
END:VEVENT
END:VCALENDAR