BEGIN:VCALENDAR
VERSION:2.0
PRODID:-//81.88.36.52//NONSGML kigkonsult.se iCalcreator 2.20//
CALSCALE:GREGORIAN
METHOD:PUBLISH
X-WR-TIMEZONE:Europe/Vienna
BEGIN:VEVENT
UID:event1031@Online-Magazin SCHNAPPEN.AT: die interessanten Seiten des Leb
 ens
DTSTAMP:20260425T122141Z
CATEGORIES:Veranstaltungen
DESCRIPTION:Die Freunde des Japaners in Neusiedl\nKategorie: Veranstaltunge
 n\nICS-Link: https://schnappen.at/oesterreich/index.php?option=com_jem&vie
 w=event&id=1031:freunde-japaners\n
DTSTART;VALUE=DATE:20260725
DTEND;VALUE=DATE:20260726
SUMMARY:Die Freunde des Japaners in Neusiedl
URL:https://schnappen.at/oesterreich/index.php?option=com_jem&view=event&id
 =1031:freunde-japaners
END:VEVENT
END:VCALENDAR