BEGIN:VCALENDAR
VERSION:2.0
PRODID:-//81.88.36.52//NONSGML kigkonsult.se iCalcreator 2.20//
CALSCALE:GREGORIAN
METHOD:PUBLISH
X-WR-TIMEZONE:Europe/Vienna
BEGIN:VEVENT
UID:event1025@Online-Magazin SCHNAPPEN.AT: die interessanten Seiten des Leb
 ens
DTSTAMP:20260425T121822Z
CATEGORIES:Veranstaltungen
DESCRIPTION:Viktor Gernot & Thomas Stipsits: Lotterbuben\nKategorie: Verans
 taltungen\nICS-Link: https://schnappen.at/oesterreich/index.php?option=com
 _jem&view=event&id=1025:viktor-gernot\n
DTSTART;VALUE=DATE:20260722
DTEND;VALUE=DATE:20260723
LOCATION:Mörbisch am Neusiedlersee\,Strand\,7072 Mörbisch
SUMMARY:Viktor Gernot & Thomas Stipsits: Lotterbuben
URL:https://schnappen.at/oesterreich/index.php?option=com_jem&view=event&id
 =1025:viktor-gernot
END:VEVENT
END:VCALENDAR