BEGIN:VCALENDAR
VERSION:2.0
PRODID:-//81.88.36.52//NONSGML kigkonsult.se iCalcreator 2.20//
CALSCALE:GREGORIAN
METHOD:PUBLISH
X-WR-TIMEZONE:Europe/Vienna
BEGIN:VEVENT
UID:event1021@Online-Magazin SCHNAPPEN.AT: die interessanten Seiten des Leb
 ens
DTSTAMP:20260425T121946Z
CATEGORIES:Termine noch offen
DESCRIPTION:Schloss Kirchstetten: Weinviertler Advent\nKategorie: Termine n
 och offen\nICS-Link: https://schnappen.at/oesterreich/index.php?option=com
 _jem&view=event&id=1021:kirchstetten\n
DTSTART;VALUE=DATE:20261205
DTEND;VALUE=DATE:20261207
LOCATION:Schloss Kirchstetten\,Kirchstetten 1\,2135 Neudorf
SUMMARY:Schloss Kirchstetten: Weinviertler Advent
URL:https://schnappen.at/oesterreich/index.php?option=com_jem&view=event&id
 =1021:kirchstetten
END:VEVENT
END:VCALENDAR