BEGIN:VCALENDAR
VERSION:2.0
PRODID:-//81.88.36.52//NONSGML kigkonsult.se iCalcreator 2.20//
CALSCALE:GREGORIAN
METHOD:PUBLISH
X-WR-TIMEZONE:Europe/Vienna
BEGIN:VEVENT
UID:event1012@Online-Magazin SCHNAPPEN.AT: die interessanten Seiten des Leb
 ens
DTSTAMP:20260425T121828Z
CATEGORIES:Veranstaltungen
DESCRIPTION:Electric Love Festival\nKategorie: Veranstaltungen\nICS-Link: h
 ttps://schnappen.at/oesterreich/index.php?option=com_jem&view=event&id=101
 2:electric-glade\n
DTSTART;VALUE=DATE:20260709
DTEND;VALUE=DATE:20260712
SUMMARY:Electric Love Festival
URL:https://schnappen.at/oesterreich/index.php?option=com_jem&view=event&id
 =1012:electric-glade
END:VEVENT
END:VCALENDAR