BEGIN:VCALENDAR
VERSION:2.0
PRODID:-//81.88.36.52//NONSGML kigkonsult.se iCalcreator 2.20//
CALSCALE:GREGORIAN
METHOD:PUBLISH
X-WR-TIMEZONE:Europe/Vienna
BEGIN:VEVENT
UID:event1008@Online-Magazin SCHNAPPEN.AT: die interessanten Seiten des Leb
 ens
DTSTAMP:20260425T121238Z
CATEGORIES:Veranstaltungen
DESCRIPTION:In Extremo - Tour \nKategorie: Veranstaltungen\nICS-Link: https
 ://schnappen.at/oesterreich/index.php?option=com_jem&view=event&id=1008:ex
 tremo\n
DTSTART;VALUE=DATE:20260904
DTEND;VALUE=DATE:20260905
SUMMARY:In Extremo - Tour 
URL:https://schnappen.at/oesterreich/index.php?option=com_jem&view=event&id
 =1008:extremo
END:VEVENT
END:VCALENDAR