BEGIN:VCALENDAR
VERSION:2.0
PRODID:-//81.88.36.52//NONSGML kigkonsult.se iCalcreator 2.20//
CALSCALE:GREGORIAN
METHOD:PUBLISH
X-WR-TIMEZONE:Europe/Vienna
BEGIN:VEVENT
UID:event761@Online-Magazin SCHNAPPEN.AT: die interessanten Seiten des Lebe
 ns
DTSTAMP:20260425T150855Z
CATEGORIES:Termine noch offen
DESCRIPTION:Wohnen & Interieur\nKategorie: Termine noch offen\nICS-Link: ht
 tps://schnappen.at/oesterreich/index.php?option=com_jem&view=event&id=761:
 wohnen-interieur\n
DTSTART;VALUE=DATE:20270310
DTEND;VALUE=DATE:20270315
LOCATION:Messezentrum Wien\,Messeplatz 1\,1020 Wien
SUMMARY:Wohnen & Interieur
URL:https://schnappen.at/oesterreich/index.php?option=com_jem&view=event&id
 =761:wohnen-interieur
END:VEVENT
END:VCALENDAR