BEGIN:VCALENDAR
VERSION:2.0
PRODID:-//81.88.36.52//NONSGML kigkonsult.se iCalcreator 2.20//
CALSCALE:GREGORIAN
METHOD:PUBLISH
X-WR-TIMEZONE:Europe/Vienna
BEGIN:VEVENT
UID:event251@Online-Magazin SCHNAPPEN.AT: die interessanten Seiten des Lebe
 ns
DTSTAMP:20260424T132317Z
CATEGORIES:Ballkalender & Balltermine
DESCRIPTION:Ball: Tirolerball 2027\nKategorie: Ballkalender & Balltermine\n
 ICS-Link: https://schnappen.at/oesterreich/index.php?option=com_jem&view=e
 vent&id=251:tiroler-ball\n
DTSTART;VALUE=DATE:20270109
DTEND;VALUE=DATE:20270110
LOCATION:Wien Rathaus\,Rathausplatz 1\,1010 Wien
SUMMARY:Ball: Tirolerball 2027
URL:https://schnappen.at/oesterreich/index.php?option=com_jem&view=event&id
 =251:tiroler-ball
END:VEVENT
END:VCALENDAR