BEGIN:VCALENDAR
VERSION:2.0
PRODID:-//81.88.36.52//NONSGML kigkonsult.se iCalcreator 2.20//
CALSCALE:GREGORIAN
METHOD:PUBLISH
X-WR-TIMEZONE:Europe/Vienna
BEGIN:VEVENT
UID:event2127@Online-Magazin SCHNAPPEN.AT: die interessanten Seiten des Leb
 ens
DTSTAMP:20260424T114328Z
CATEGORIES:Termine noch offen
DESCRIPTION:Linzer Autofrühling\nKategorie: Termine noch offen\nICS-Link: h
 ttps://schnappen.at/oesterreich/index.php?option=com_jem&view=event&id=212
 7:linz-autofruehling\n
DTSTART;VALUE=DATE:20270313
DTEND;VALUE=DATE:20270314
LOCATION:Design Center Linz\,Europaplatz 1\,4020 Linz
SUMMARY:Linzer Autofrühling
URL:https://schnappen.at/oesterreich/index.php?option=com_jem&view=event&id
 =2127:linz-autofruehling
END:VEVENT
END:VCALENDAR