BEGIN:VCALENDAR
VERSION:2.0
PRODID:-//81.88.36.52//NONSGML kigkonsult.se iCalcreator 2.20//
CALSCALE:GREGORIAN
METHOD:PUBLISH
X-WR-TIMEZONE:Europe/Vienna
BEGIN:VEVENT
UID:event1230@Online-Magazin SCHNAPPEN.AT: die interessanten Seiten des Leb
 ens
DTSTAMP:20260424T132317Z
CATEGORIES:Termine noch offen
DESCRIPTION:Ball des Sports\nKategorie: Termine noch offen\nICS-Link: https
 ://schnappen.at/oesterreich/index.php?option=com_jem&view=event&id=1230:ba
 ll-sport\n
DTSTART;VALUE=DATE:20270320
DTEND;VALUE=DATE:20270321
LOCATION:Wien Rathaus\,Rathausplatz 1\,1010 Wien
SUMMARY:Ball des Sports
URL:https://schnappen.at/oesterreich/index.php?option=com_jem&view=event&id
 =1230:ball-sport
END:VEVENT
END:VCALENDAR