BEGIN:VCALENDAR
VERSION:2.0
PRODID:-//81.88.36.52//NONSGML kigkonsult.se iCalcreator 2.20//
CALSCALE:GREGORIAN
METHOD:PUBLISH
X-WR-TIMEZONE:Europe/Vienna
BEGIN:VEVENT
UID:event1670@Online-Magazin SCHNAPPEN.AT: die interessanten Seiten des Leb
 ens
DTSTAMP:20260425T162928Z
CATEGORIES:Termine noch offen
DESCRIPTION:Three For Silver in Österreich u. Deutschland\nKategorie: Termi
 ne noch offen\nICS-Link: https://schnappen.at/oesterreich/index.php?option
 =com_jem&view=event&id=1670:three-for-silver\n
DTSTART;VALUE=DATE:20260408
DTEND;VALUE=DATE:20260409
LOCATION:Szene Wien\,Hauffgasse 26\,1110 Wien\,Austria
SUMMARY:Three For Silver in Österreich u. Deutschland
URL:https://schnappen.at/oesterreich/index.php?option=com_jem&view=event&id
 =1670:three-for-silver
END:VEVENT
END:VCALENDAR