BEGIN:VCALENDAR
VERSION:2.0
PRODID:-//81.88.36.52//NONSGML kigkonsult.se iCalcreator 2.20//
CALSCALE:GREGORIAN
METHOD:PUBLISH
X-WR-TIMEZONE:Europe/Vienna
BEGIN:VEVENT
UID:event984@Online-Magazin SCHNAPPEN.AT: die interessanten Seiten des Lebe
 ns
DTSTAMP:20260424T111115Z
CATEGORIES:Termine noch offen
DESCRIPTION:Wein Wandern in Wien\nKategorie: Termine noch offen\nICS-Link: 
 https://schnappen.at/oesterreich/index.php?option=com_jem&view=event&id=98
 4:wein-wandern\n
DTSTART;VALUE=DATE:20250927
DTEND;VALUE=DATE:20250929
SUMMARY:Wein Wandern in Wien
URL:https://schnappen.at/oesterreich/index.php?option=com_jem&view=event&id
 =984:wein-wandern
END:VEVENT
END:VCALENDAR