BEGIN:VCALENDAR
VERSION:2.0
PRODID:-//81.88.36.52//NONSGML kigkonsult.se iCalcreator 2.20//
CALSCALE:GREGORIAN
METHOD:PUBLISH
X-WR-TIMEZONE:Europe/Vienna
BEGIN:VEVENT
UID:event936@Online-Magazin SCHNAPPEN.AT: die interessanten Seiten des Lebe
 ns
DTSTAMP:20260425T150546Z
CATEGORIES:Veranstaltungen
DESCRIPTION:Parov Stelar in Österreich und Deutschland\nKategorie: Veransta
 ltungen\nICS-Link: https://schnappen.at/oesterreich/index.php?option=com_j
 em&view=event&id=936:parov-stelar\n
DTSTART;VALUE=DATE:20260710
DTEND;VALUE=DATE:20260711
SUMMARY:Parov Stelar in Österreich und Deutschland
URL:https://schnappen.at/oesterreich/index.php?option=com_jem&view=event&id
 =936:parov-stelar
END:VEVENT
END:VCALENDAR