BEGIN:VCALENDAR
VERSION:2.0
PRODID:-//81.88.36.52//NONSGML kigkonsult.se iCalcreator 2.20//
CALSCALE:GREGORIAN
METHOD:PUBLISH
X-WR-TIMEZONE:Europe/Vienna
BEGIN:VEVENT
UID:event699@Online-Magazin SCHNAPPEN.AT: die interessanten Seiten des Lebe
 ns
DTSTAMP:20260425T152343Z
CATEGORIES:Termine noch offen
DESCRIPTION:Mittelalterlicher Adventmarkt im Arsenal Wien\nKategorie: Termi
 ne noch offen\nICS-Link: https://schnappen.at/oesterreich/index.php?option
 =com_jem&view=event&id=699:mittelalterlicher-advent\n
DTSTART;VALUE=DATE:20261128
DTEND;VALUE=DATE:20261130
SUMMARY:Mittelalterlicher Adventmarkt im Arsenal Wien
URL:https://schnappen.at/oesterreich/index.php?option=com_jem&view=event&id
 =699:mittelalterlicher-advent
END:VEVENT
END:VCALENDAR