BEGIN:VCALENDAR
VERSION:2.0
PRODID:-//81.88.36.52//NONSGML kigkonsult.se iCalcreator 2.20//
CALSCALE:GREGORIAN
METHOD:PUBLISH
X-WR-TIMEZONE:Europe/Vienna
BEGIN:VEVENT
UID:event677@Online-Magazin SCHNAPPEN.AT: die interessanten Seiten des Lebe
 ns
DTSTAMP:20260425T134030Z
CATEGORIES:Veranstaltungen
DESCRIPTION:Militärmusikfestival 2026\nKategorie: Veranstaltungen\nICS-Link
 : https://schnappen.at/oesterreich/index.php?option=com_jem&view=event&id=
 677:militaer-musik\n
DTSTART;TZID=Europe/Vienna:20260521T193000
DTEND;TZID=Europe/Vienna:20260521T193000
SUMMARY:Militärmusikfestival 2026
URL:https://schnappen.at/oesterreich/index.php?option=com_jem&view=event&id
 =677:militaer-musik
END:VEVENT
END:VCALENDAR