BEGIN:VCALENDAR
VERSION:2.0
PRODID:-//81.88.36.52//NONSGML kigkonsult.se iCalcreator 2.20//
CALSCALE:GREGORIAN
METHOD:PUBLISH
X-WR-TIMEZONE:Europe/Vienna
BEGIN:VEVENT
UID:event462@Online-Magazin SCHNAPPEN.AT: die interessanten Seiten des Lebe
 ns
DTSTAMP:20260425T150419Z
CATEGORIES:Veranstaltungen\, Wir berichten über...
DESCRIPTION:Liquid Market Events\, Aperitivo Spring\, Mindful Drinking Fest
 ival\, \nKategorie: Veranstaltungen\, Wir berichten über...\nICS-Link: htt
 ps://schnappen.at/oesterreich/index.php?option=com_jem&view=event&id=462:c
 ocktail\n
DTSTART;VALUE=DATE:20260827
DTEND;VALUE=DATE:20260830
SUMMARY:Liquid Market Events\, Aperitivo Spring\, Mindful Drinking Festival
 \, 
URL:https://schnappen.at/oesterreich/index.php?option=com_jem&view=event&id
 =462:cocktail
END:VEVENT
END:VCALENDAR