BEGIN:VCALENDAR
VERSION:2.0
PRODID:-//81.88.36.52//NONSGML kigkonsult.se iCalcreator 2.20//
CALSCALE:GREGORIAN
METHOD:PUBLISH
X-WR-TIMEZONE:Europe/Vienna
BEGIN:VEVENT
UID:event432@Online-Magazin SCHNAPPEN.AT: die interessanten Seiten des Lebe
 ns
DTSTAMP:20260425T150333Z
CATEGORIES:Veranstaltungen
DESCRIPTION:Roland Batik Konzert\nKategorie: Veranstaltungen\nICS-Link: htt
 ps://schnappen.at/oesterreich/index.php?option=com_jem&view=event&id=432:b
 atik\n
DTSTART;VALUE=DATE:20260503
DTEND;VALUE=DATE:20260504
SUMMARY:Roland Batik Konzert
URL:https://schnappen.at/oesterreich/index.php?option=com_jem&view=event&id
 =432:batik
END:VEVENT
END:VCALENDAR