BEGIN:VCALENDAR
VERSION:2.0
PRODID:-//81.88.36.52//NONSGML kigkonsult.se iCalcreator 2.20//
CALSCALE:GREGORIAN
METHOD:PUBLISH
X-WR-TIMEZONE:Europe/Vienna
BEGIN:VEVENT
UID:event425@Online-Magazin SCHNAPPEN.AT: die interessanten Seiten des Lebe
 ns
DTSTAMP:20260425T133909Z
CATEGORIES:Veranstaltungen
DESCRIPTION:Konstantin Wecker in Österreich \nKategorie: Veranstaltungen\nI
 CS-Link: https://schnappen.at/oesterreich/index.php?option=com_jem&view=ev
 ent&id=425:wecker\n
DTSTART;VALUE=DATE:20260618
DTEND;VALUE=DATE:20260619
LOCATION:Kulturzentrum Eisenstadt\,Franz Schubert Platz 6\,7000  Eisenstadt
SUMMARY:Konstantin Wecker in Österreich 
URL:https://schnappen.at/oesterreich/index.php?option=com_jem&view=event&id
 =425:wecker
END:VEVENT
END:VCALENDAR