BEGIN:VCALENDAR
VERSION:2.0
PRODID:-//81.88.36.52//NONSGML kigkonsult.se iCalcreator 2.20//
CALSCALE:GREGORIAN
METHOD:PUBLISH
X-WR-TIMEZONE:Europe/Vienna
BEGIN:VEVENT
UID:event405@Online-Magazin SCHNAPPEN.AT: die interessanten Seiten des Lebe
 ns
DTSTAMP:20260424T141330Z
CATEGORIES:Termine noch offen
DESCRIPTION:Amistat\nKategorie: Termine noch offen\nICS-Link: https://schna
 ppen.at/oesterreich/index.php?option=com_jem&view=event&id=405:amistat\n
DTSTART;VALUE=DATE:20240412
DTEND;VALUE=DATE:20240413
LOCATION:W.U.K. Werkstätten- und Kulturhaus\,Währinger Stra0e 59\,1090  Wie
 n
SUMMARY:Amistat
URL:https://schnappen.at/oesterreich/index.php?option=com_jem&view=event&id
 =405:amistat
END:VEVENT
END:VCALENDAR