BEGIN:VCALENDAR
VERSION:2.0
PRODID:-//81.88.36.52//NONSGML kigkonsult.se iCalcreator 2.20//
CALSCALE:GREGORIAN
METHOD:PUBLISH
X-WR-TIMEZONE:Europe/Vienna
BEGIN:VEVENT
UID:event2217@Online-Magazin SCHNAPPEN.AT: die interessanten Seiten des Leb
 ens
DTSTAMP:20260424T154119Z
CATEGORIES:Veranstaltungen
DESCRIPTION:Wolfmother\nKategorie: Veranstaltungen\nICS-Link: https://schna
 ppen.at/oesterreich/index.php?option=com_jem&view=event&id=2217:wolfmother
 \n
DTSTART;VALUE=DATE:20260811
DTEND;VALUE=DATE:20260812
SUMMARY:Wolfmother
URL:https://schnappen.at/oesterreich/index.php?option=com_jem&view=event&id
 =2217:wolfmother
END:VEVENT
END:VCALENDAR