BEGIN:VCALENDAR
VERSION:2.0
PRODID:-//81.88.36.52//NONSGML kigkonsult.se iCalcreator 2.20//
CALSCALE:GREGORIAN
METHOD:PUBLISH
X-WR-TIMEZONE:Europe/Vienna
BEGIN:VEVENT
UID:event2092@Online-Magazin SCHNAPPEN.AT: die interessanten Seiten des Leb
 ens
DTSTAMP:20260425T150543Z
CATEGORIES:Veranstaltungen
DESCRIPTION:Roman Josef Schwendt\nKategorie: Veranstaltungen\nICS-Link: htt
 ps://schnappen.at/oesterreich/index.php?option=com_jem&view=event&id=2092:
 schwendt\n
DTSTART;VALUE=DATE:20260730
DTEND;VALUE=DATE:20260731
SUMMARY:Roman Josef Schwendt
URL:https://schnappen.at/oesterreich/index.php?option=com_jem&view=event&id
 =2092:schwendt
END:VEVENT
END:VCALENDAR