BEGIN:VCALENDAR
VERSION:2.0
PRODID:-//81.88.36.52//NONSGML kigkonsult.se iCalcreator 2.20//
CALSCALE:GREGORIAN
METHOD:PUBLISH
X-WR-TIMEZONE:Europe/Vienna
BEGIN:VEVENT
UID:event208@Online-Magazin SCHNAPPEN.AT: die interessanten Seiten des Lebe
 ns
DTSTAMP:20260425T150547Z
CATEGORIES:Veranstaltungen
DESCRIPTION:Herbert Grönemeyer 2027 in Österreich \nKategorie: Veranstaltun
 gen\nICS-Link: https://schnappen.at/oesterreich/index.php?option=com_jem&v
 iew=event&id=208:groenemeyer\n
DTSTART;TZID=Europe/Vienna:20270610T193000
DTEND;TZID=Europe/Vienna:20270610T193000
LOCATION:Wiener Stadthalle\,Dr. Roland Rainer Platz 1\,1150 Wien
SUMMARY:Herbert Grönemeyer 2027 in Österreich 
URL:https://schnappen.at/oesterreich/index.php?option=com_jem&view=event&id
 =208:groenemeyer
END:VEVENT
END:VCALENDAR