BEGIN:VCALENDAR
VERSION:2.0
PRODID:-//81.88.36.52//NONSGML kigkonsult.se iCalcreator 2.20//
CALSCALE:GREGORIAN
METHOD:PUBLISH
X-WR-TIMEZONE:Europe/Vienna
BEGIN:VEVENT
UID:event2077@Online-Magazin SCHNAPPEN.AT: die interessanten Seiten des Leb
 ens
DTSTAMP:20260424T141246Z
CATEGORIES:Veranstaltungen
DESCRIPTION:Abarga\, Percussion-Duo\nKategorie: Veranstaltungen\nICS-Link: 
 https://schnappen.at/oesterreich/index.php?option=com_jem&view=event&id=20
 77:abarga\n
DTSTART;VALUE=DATE:20260430
DTEND;VALUE=DATE:20260501
SUMMARY:Abarga\, Percussion-Duo
URL:https://schnappen.at/oesterreich/index.php?option=com_jem&view=event&id
 =2077:abarga
END:VEVENT
END:VCALENDAR