BEGIN:VCALENDAR
VERSION:2.0
PRODID:-//81.88.36.52//NONSGML kigkonsult.se iCalcreator 2.20//
CALSCALE:GREGORIAN
METHOD:PUBLISH
X-WR-TIMEZONE:Europe/Vienna
BEGIN:VEVENT
UID:event2019@Online-Magazin SCHNAPPEN.AT: die interessanten Seiten des Leb
 ens
DTSTAMP:20260424T141246Z
CATEGORIES:Veranstaltungen
DESCRIPTION:Beast in Black in Österreich\, Deutschland und Tschechien\nKate
 gorie: Veranstaltungen\nICS-Link: https://schnappen.at/oesterreich/index.p
 hp?option=com_jem&view=event&id=2019:black\n
DTSTART;VALUE=DATE:20261123
DTEND;VALUE=DATE:20261124
SUMMARY:Beast in Black in Österreich\, Deutschland und Tschechien
URL:https://schnappen.at/oesterreich/index.php?option=com_jem&view=event&id
 =2019:black
END:VEVENT
END:VCALENDAR