BEGIN:VCALENDAR
VERSION:2.0
PRODID:-//81.88.36.52//NONSGML kigkonsult.se iCalcreator 2.20//
CALSCALE:GREGORIAN
METHOD:PUBLISH
X-WR-TIMEZONE:Europe/Vienna
BEGIN:VEVENT
UID:event198@Online-Magazin SCHNAPPEN.AT: die interessanten Seiten des Lebe
 ns
DTSTAMP:20260424T114241Z
CATEGORIES:Termine noch offen
DESCRIPTION:Heyfield Festival: Drum & Bass in Wiesen\nKategorie: Termine no
 ch offen\nICS-Link: https://schnappen.at/oesterreich/index.php?option=com_
 jem&view=event&id=198:urban-art\n
DTSTART;VALUE=DATE:20210722
DTEND;VALUE=DATE:20210725
LOCATION:Wiesen Festivalgelände\,Schöllingstraße\,7203 Wiesen
SUMMARY:Heyfield Festival: Drum & Bass in Wiesen
URL:https://schnappen.at/oesterreich/index.php?option=com_jem&view=event&id
 =198:urban-art
END:VEVENT
END:VCALENDAR