BEGIN:VCALENDAR
VERSION:2.0
PRODID:-//81.88.36.52//NONSGML kigkonsult.se iCalcreator 2.20//
CALSCALE:GREGORIAN
METHOD:PUBLISH
X-WR-TIMEZONE:Europe/Vienna
BEGIN:VEVENT
UID:event1740@Online-Magazin SCHNAPPEN.AT: die interessanten Seiten des Leb
 ens
DTSTAMP:20260424T131244Z
CATEGORIES:Veranstaltungen
DESCRIPTION:Die Mönche des Shaolin Kung Fu\nKategorie: Veranstaltungen\nICS
 -Link: https://schnappen.at/oesterreich/index.php?option=com_jem&view=even
 t&id=1740:shaolin\n
DTSTART;VALUE=DATE:20260422
DTEND;VALUE=DATE:20260423
SUMMARY:Die Mönche des Shaolin Kung Fu
URL:https://schnappen.at/oesterreich/index.php?option=com_jem&view=event&id
 =1740:shaolin
END:VEVENT
END:VCALENDAR