BEGIN:VCALENDAR
VERSION:2.0
PRODID:-//81.88.36.52//NONSGML kigkonsult.se iCalcreator 2.20//
CALSCALE:GREGORIAN
METHOD:PUBLISH
X-WR-TIMEZONE:Europe/Vienna
BEGIN:VEVENT
UID:event1690@Online-Magazin SCHNAPPEN.AT: die interessanten Seiten des Leb
 ens
DTSTAMP:20260425T150547Z
CATEGORIES:Veranstaltungen\, Termine noch offen
DESCRIPTION:Rock'n'Roll Kurpark 2026 Bad Sauerbrunn\nKategorie: Veranstaltu
 ngen\, Termine noch offen\nICS-Link: https://schnappen.at/oesterreich/inde
 x.php?option=com_jem&view=event&id=1690:rock-n-roll\n
DTSTART;VALUE=DATE:20260724
DTEND;VALUE=DATE:20260726
SUMMARY:Rock'n'Roll Kurpark 2026 Bad Sauerbrunn
URL:https://schnappen.at/oesterreich/index.php?option=com_jem&view=event&id
 =1690:rock-n-roll
END:VEVENT
END:VCALENDAR