BEGIN:VCALENDAR
VERSION:2.0
PRODID:-//81.88.36.52//NONSGML kigkonsult.se iCalcreator 2.20//
CALSCALE:GREGORIAN
METHOD:PUBLISH
X-WR-TIMEZONE:Europe/Vienna
BEGIN:VEVENT
UID:event163@Online-Magazin SCHNAPPEN.AT: die interessanten Seiten des Lebe
 ns
DTSTAMP:20260425T152712Z
CATEGORIES:Termine noch offen
DESCRIPTION:Miss und Mister Austria Wahl 2025\nKategorie: Termine noch offe
 n\nICS-Link: https://schnappen.at/oesterreich/index.php?option=com_jem&vie
 w=event&id=163:miss-austria-wahl\n
DTSTART;VALUE=DATE:20240911
DTEND;VALUE=DATE:20240912
LOCATION:MuseumsQuartier Wien\,Museumsplatz 1\,1070 Wien
SUMMARY:Miss und Mister Austria Wahl 2025
URL:https://schnappen.at/oesterreich/index.php?option=com_jem&view=event&id
 =163:miss-austria-wahl
END:VEVENT
END:VCALENDAR