BEGIN:VCALENDAR
VERSION:2.0
PRODID:-//81.88.36.52//NONSGML kigkonsult.se iCalcreator 2.20//
CALSCALE:GREGORIAN
METHOD:PUBLISH
X-WR-TIMEZONE:Europe/Vienna
BEGIN:VEVENT
UID:event1563@Online-Magazin SCHNAPPEN.AT: die interessanten Seiten des Leb
 ens
DTSTAMP:20260424T132812Z
CATEGORIES:Termine noch offen
DESCRIPTION:Theater in den Bergen und szenische Lesungen\nKategorie: Termin
 e noch offen\nICS-Link: https://schnappen.at/oesterreich/index.php?option=
 com_jem&view=event&id=1563:rax\n
DTSTART;VALUE=DATE:20200904
DTEND;VALUE=DATE:20200906
LOCATION:BaBioL\, Bildungsakademie für Bio-Landwirtschaft\,Grünsting 1\,265
 1 Reichenau an der Rax
SUMMARY:Theater in den Bergen und szenische Lesungen
URL:https://schnappen.at/oesterreich/index.php?option=com_jem&view=event&id
 =1563:rax
END:VEVENT
END:VCALENDAR