BEGIN:VCALENDAR
VERSION:2.0
PRODID:-//81.88.36.52//NONSGML kigkonsult.se iCalcreator 2.20//
CALSCALE:GREGORIAN
METHOD:PUBLISH
X-WR-TIMEZONE:Europe/Vienna
BEGIN:VEVENT
UID:event1493@Online-Magazin SCHNAPPEN.AT: die interessanten Seiten des Leb
 ens
DTSTAMP:20260425T192842Z
CATEGORIES:Veranstaltungen\, Heurigentermine
DESCRIPTION:Weinfrühling Kamptal Kremstal Traisental\nKategorie: Veranstalt
 ungen\, Heurigentermine\nICS-Link: https://schnappen.at/oesterreich/index.
 php?option=com_jem&view=event&id=1493:weinfruehling\n
DTSTART;VALUE=DATE:20260424
DTEND;VALUE=DATE:20260427
SUMMARY:Weinfrühling Kamptal Kremstal Traisental
URL:https://schnappen.at/oesterreich/index.php?option=com_jem&view=event&id
 =1493:weinfruehling
END:VEVENT
END:VCALENDAR