BEGIN:VCALENDAR
VERSION:2.0
PRODID:-//81.88.36.52//NONSGML kigkonsult.se iCalcreator 2.20//
CALSCALE:GREGORIAN
METHOD:PUBLISH
X-WR-TIMEZONE:Europe/Vienna
BEGIN:VEVENT
UID:event1410@Online-Magazin SCHNAPPEN.AT: die interessanten Seiten des Leb
 ens
DTSTAMP:20260425T121207Z
CATEGORIES:Termine noch offen
DESCRIPTION:Lanzenkirchner Trachtenball\nKategorie: Termine noch offen\nICS
 -Link: https://schnappen.at/oesterreich/index.php?option=com_jem&view=even
 t&id=1410:trachtenball\n
DTSTART;TZID=Europe/Vienna:20231111T200000
DTEND;TZID=Europe/Vienna:20231111T200000
LOCATION:Lanzenkirchen Gemeindesaal\,Schulgasse 6\,2821 Lanzenkirchen
SUMMARY:Lanzenkirchner Trachtenball
URL:https://schnappen.at/oesterreich/index.php?option=com_jem&view=event&id
 =1410:trachtenball
END:VEVENT
END:VCALENDAR