BEGIN:VCALENDAR
VERSION:2.0
PRODID:-//81.88.36.52//NONSGML kigkonsult.se iCalcreator 2.20//
CALSCALE:GREGORIAN
METHOD:PUBLISH
X-WR-TIMEZONE:Europe/Vienna
BEGIN:VEVENT
UID:event1342@Online-Magazin SCHNAPPEN.AT: die interessanten Seiten des Leb
 ens
DTSTAMP:20260424T105329Z
CATEGORIES:Termine noch offen
DESCRIPTION:Cenacolo Fest & junge Menschen in Krisenzeiten\nKategorie: Term
 ine noch offen\nICS-Link: https://schnappen.at/oesterreich/index.php?optio
 n=com_jem&view=event&id=1342:cenacolo-fest\n
DTSTART;VALUE=DATE:20191020
DTEND;VALUE=DATE:20191021
SUMMARY:Cenacolo Fest & junge Menschen in Krisenzeiten
URL:https://schnappen.at/oesterreich/index.php?option=com_jem&view=event&id
 =1342:cenacolo-fest
END:VEVENT
END:VCALENDAR