BEGIN:VCALENDAR
VERSION:2.0
PRODID:-//81.88.36.52//NONSGML kigkonsult.se iCalcreator 2.20//
CALSCALE:GREGORIAN
METHOD:PUBLISH
X-WR-TIMEZONE:Europe/Vienna
BEGIN:VEVENT
UID:event1271@Online-Magazin SCHNAPPEN.AT: die interessanten Seiten des Leb
 ens
DTSTAMP:20260425T133909Z
CATEGORIES:Veranstaltungen
DESCRIPTION:Barockjuwel: Halbturner Schlosskonzerte &  Weihnachtsmarkt & \n
 Kategorie: Veranstaltungen\nICS-Link: https://schnappen.at/oesterreich/ind
 ex.php?option=com_jem&view=event&id=1271:halbturn\n
DTSTART;VALUE=DATE:20260611
DTEND;VALUE=DATE:20260612
LOCATION:Schloss Halbturn\,Schloss\,7131 Halbturn
SUMMARY:Barockjuwel: Halbturner Schlosskonzerte &  Weihnachtsmarkt & 
URL:https://schnappen.at/oesterreich/index.php?option=com_jem&view=event&id
 =1271:halbturn
END:VEVENT
END:VCALENDAR