BEGIN:VCALENDAR
VERSION:2.0
PRODID:-//81.88.36.52//NONSGML kigkonsult.se iCalcreator 2.20//
CALSCALE:GREGORIAN
METHOD:PUBLISH
X-WR-TIMEZONE:Europe/Vienna
BEGIN:VEVENT
UID:event1101@Online-Magazin SCHNAPPEN.AT: die interessanten Seiten des Leb
 ens
DTSTAMP:20260424T143207Z
CATEGORIES:Veranstaltungen
DESCRIPTION:Rebekka Bakken in Österreich und Deutschland\nKategorie: Verans
 taltungen\nICS-Link: https://schnappen.at/oesterreich/index.php?option=com
 _jem&view=event&id=1101:rebekka-bakken\n
DTSTART;TZID=Europe/Vienna:20260517T193000
DTEND;TZID=Europe/Vienna:20260517T193000
SUMMARY:Rebekka Bakken in Österreich und Deutschland
URL:https://schnappen.at/oesterreich/index.php?option=com_jem&view=event&id
 =1101:rebekka-bakken
END:VEVENT
END:VCALENDAR