BEGIN:VCALENDAR
VERSION:2.0
PRODID:-//81.88.36.52//NONSGML kigkonsult.se iCalcreator 2.20//
CALSCALE:GREGORIAN
METHOD:PUBLISH
X-WR-TIMEZONE:Europe/Vienna
BEGIN:VEVENT
UID:event1262@Online-Magazin SCHNAPPEN.AT: die interessanten Seiten des Leb
 ens
DTSTAMP:20260424T102054Z
CATEGORIES:Termine noch offen
DESCRIPTION:MALUMA\, Papi Juancho World Tour\nKategorie: Termine noch offen
 \nICS-Link: https://schnappen.at/oesterreich/index.php?option=com_jem&view
 =event&id=1262:maluma\n
DTSTART;TZID=Europe/Vienna:20220227T180000
DTEND;TZID=Europe/Vienna:20220227T180000
LOCATION:Wiener Stadthalle\,Dr. Roland Rainer Platz 1\,1150 Wien
SUMMARY:MALUMA\, Papi Juancho World Tour
URL:https://schnappen.at/oesterreich/index.php?option=com_jem&view=event&id
 =1262:maluma
END:VEVENT
END:VCALENDAR