BEGIN:VCALENDAR
VERSION:2.0
PRODID:-//81.88.36.52//NONSGML kigkonsult.se iCalcreator 2.20//
CALSCALE:GREGORIAN
METHOD:PUBLISH
X-WR-TIMEZONE:Europe/Vienna
BEGIN:VEVENT
UID:event1906@Online-Magazin SCHNAPPEN.AT: die interessanten Seiten des Leb
 ens
DTSTAMP:20260424T114310Z
CATEGORIES:Ballkalender & Balltermine
DESCRIPTION:Grazer Opernredoute\nKategorie: Ballkalender & Balltermine\nICS
 -Link: https://schnappen.at/oesterreich/index.php?option=com_jem&view=even
 t&id=1906:opernredoute-graz\n
DTSTART;VALUE=DATE:20270130
DTEND;VALUE=DATE:20270131
SUMMARY:Grazer Opernredoute
URL:https://schnappen.at/oesterreich/index.php?option=com_jem&view=event&id
 =1906:opernredoute-graz
END:VEVENT
END:VCALENDAR